BEGIN:VCALENDAR
VERSION:2.0
PRODID:-//Answers From Dogs - ECPv6.2.3.1//NONSGML v1.0//EN
CALSCALE:GREGORIAN
METHOD:PUBLISH
X-WR-CALNAME:Answers From Dogs
X-ORIGINAL-URL:https://answersfromdogs.com
X-WR-CALDESC:Events for Answers From Dogs
REFRESH-INTERVAL;VALUE=DURATION:PT1H
X-Robots-Tag:noindex
X-PUBLISHED-TTL:PT1H
BEGIN:VTIMEZONE
TZID:UTC
BEGIN:STANDARD
TZOFFSETFROM:+0000
TZOFFSETTO:+0000
TZNAME:UTC
DTSTART:20240101T000000
END:STANDARD
END:VTIMEZONE
BEGIN:VEVENT
DTSTART;TZID=UTC:20240207T180000
DTEND;TZID=UTC:20240207T193000
DTSTAMP:20260422T225737
CREATED:20230915T114318Z
LAST-MODIFIED:20231227T173425Z
UID:664-1707328800-1707334200@answersfromdogs.com
SUMMARY:Aggressive Dog Transformation
DESCRIPTION:Training aggressive dogs is hard\, but not for the reasons one might think. Most dog training is oriented around teaching information. So what happens when our dog needs social and emotional support? What happens when this lack results in our dog acting out in a way that is dangerous? The answer is dog training breaks down and we are stuck with the same fear and confusion that our dog is experiencing. \nOur solution is a dogcentric approach where we aim to understand what our dog is going through and then respond in a meaningful way. \nOur guide is a two part recognition. My dog is socially brilliant & my dog thinks like a good person. \nOur tool is natural born intuition. \nWith this foundation you will find it effective and fun to start to identify\, what is my dog going through and how to I respond in a meaningful way. It is uplifting and inspiring to see how “dog listening” can lead to quick transformations for dogs and their families who have been struggling for years and have already tried “everything”. \n*Tickets must be purchased online in advance of the event. Tickets may or may not be for sale at the door the day of the event. Typically events are sold out in advance.
URL:https://answersfromdogs.com/event/aggressie-dog-transformation/
LOCATION:Your Dog’s Best Friend Training Center\, 221 Border Ave\, Minneapolis\, MN\, 55405\, United States
ATTACH;FMTTYPE=image/jpeg:https://answersfromdogs.com/wp-content/uploads/2023/09/agg-feat.jpg
END:VEVENT
END:VCALENDAR